BEGIN:VCALENDAR
VERSION:2.0
PRODID:-//Dolomiti Prealpi - ECPv6.14.2//NONSGML v1.0//EN
CALSCALE:GREGORIAN
METHOD:PUBLISH
X-ORIGINAL-URL:https://www.dolomitiprealpi.it/en/
X-WR-CALDESC:Events for Dolomiti Prealpi
REFRESH-INTERVAL;VALUE=DURATION:PT1H
X-Robots-Tag:noindex
X-PUBLISHED-TTL:PT1H
BEGIN:VTIMEZONE
TZID:Europe/Rome
BEGIN:DAYLIGHT
TZOFFSETFROM:+0100
TZOFFSETTO:+0200
TZNAME:CEST
DTSTART:20250330T010000
END:DAYLIGHT
BEGIN:STANDARD
TZOFFSETFROM:+0200
TZOFFSETTO:+0100
TZNAME:CET
DTSTART:20251026T010000
END:STANDARD
END:VTIMEZONE
BEGIN:VEVENT
DTSTART;TZID=Europe/Rome:20250319T000000
DTEND;TZID=Europe/Rome:20250319T000000
DTSTAMP:20260419T233207
CREATED:20250709T130809Z
LAST-MODIFIED:20250709T130809Z
UID:49348-1742342400-1742342400@www.dolomitiprealpi.it
SUMMARY:Mostra Fotografica di Eddi Da Ros
DESCRIPTION:Personal photographic exhibition by Eddi Da Ros \nSolo photography exhibition by Eddi Da Ros. \nThe photographer is someone who can capture a moment and with that shot evoke emotions in the observer of the image.
URL:https://www.dolomitiprealpi.it/en/event/mostra-fotografica-di-eddi-da-ros/
END:VEVENT
BEGIN:VEVENT
DTSTART;TZID=Europe/Rome:20250319T000000
DTEND;TZID=Europe/Rome:20250319T000000
DTSTAMP:20260419T233207
CREATED:20250715T083607Z
LAST-MODIFIED:20250715T083607Z
UID:52369-1742342400-1742342400@www.dolomitiprealpi.it
SUMMARY:Mostra Fotografica di Eddi Da Ros
DESCRIPTION:Personal photographic exhibition by Eddi Da Ros \nSolo photography exhibition by Eddi Da Ros. \nThe photographer is someone who can capture a moment and with that shot evoke emotions in the observer of the image.
URL:https://www.dolomitiprealpi.it/en/event/mostra-fotografica-di-eddi-da-ros/
END:VEVENT
BEGIN:VEVENT
DTSTART;TZID=Europe/Rome:20250319T000000
DTEND;TZID=Europe/Rome:20250319T000000
DTSTAMP:20260419T233207
CREATED:20250716T112208Z
LAST-MODIFIED:20250716T121137Z
UID:55972-1742342400-1742342400@www.dolomitiprealpi.it
SUMMARY:Mostra Fotografica di Eddi Da Ros
DESCRIPTION:Personal photographic exhibition by Eddi Da Ros \nSolo photography exhibition by Eddi Da Ros. \nThe photographer is someone who can capture a moment and with that shot evoke emotions in the observer of the image.
URL:https://www.dolomitiprealpi.it/en/event/mostra-fotografica-di-eddi-da-ros-2/
END:VEVENT
BEGIN:VEVENT
DTSTART;TZID=Europe/Rome:20250319T000000
DTEND;TZID=Europe/Rome:20250319T000000
DTSTAMP:20260419T233207
CREATED:20250717T131140Z
LAST-MODIFIED:20250717T131140Z
UID:62701-1742342400-1742342400@www.dolomitiprealpi.it
SUMMARY:Mostra Fotografica di Eddi Da Ros
DESCRIPTION:Personal photographic exhibition by Eddi Da Ros \nSolo photography exhibition by Eddi Da Ros. \nThe photographer is someone who can capture a moment and with that shot evoke emotions in the observer of the image.
URL:https://www.dolomitiprealpi.it/en/event/mostra-fotografica-di-eddi-da-ros/
END:VEVENT
BEGIN:VEVENT
DTSTART;TZID=Europe/Rome:20250319T000000
DTEND;TZID=Europe/Rome:20250319T000000
DTSTAMP:20260419T233207
CREATED:20250830T113257Z
LAST-MODIFIED:20250921T110650Z
UID:66388-1742342400-1742342400@www.dolomitiprealpi.it
SUMMARY:Mostra Fotografica di Eddi Da Ros
DESCRIPTION:Personal photographic exhibition by Eddi Da Ros \nSolo photography exhibition by Eddi Da Ros. \nThe photographer is someone who can capture a moment and with that shot evoke emotions in the observer of the image.
URL:https://www.dolomitiprealpi.it/en/event/mostra-fotografica-di-eddi-da-ros-6/
END:VEVENT
BEGIN:VEVENT
DTSTART;TZID=Europe/Rome:20250320T000000
DTEND;TZID=Europe/Rome:20250320T000000
DTSTAMP:20260419T233207
CREATED:20250709T131556Z
LAST-MODIFIED:20250709T131556Z
UID:49667-1742428800-1742428800@www.dolomitiprealpi.it
SUMMARY:Coccole da leggere
DESCRIPTION:Sweet readings for children. \nTwo sweet reading appointments dedicated to children between 0 and 3 years old and their companions. \nReservation is necessary by writing or calling (on Tuesday and Friday from 3:00 PM to 6:00 PM) to the Library of Lentiai.
URL:https://www.dolomitiprealpi.it/en/event/coccole-da-leggere/
END:VEVENT
BEGIN:VEVENT
DTSTART;TZID=Europe/Rome:20250320T000000
DTEND;TZID=Europe/Rome:20250320T000000
DTSTAMP:20260419T233207
CREATED:20250715T083956Z
LAST-MODIFIED:20250715T083955Z
UID:53165-1742428800-1742428800@www.dolomitiprealpi.it
SUMMARY:Coccole da leggere
DESCRIPTION:Sweet readings for children. \nTwo sweet reading appointments dedicated to children between 0 and 3 years old and their companions. \nReservation is necessary by writing or calling (on Tuesday and Friday from 3:00 PM to 6:00 PM) to the Library of Lentiai.
URL:https://www.dolomitiprealpi.it/en/event/coccole-da-leggere/
END:VEVENT
BEGIN:VEVENT
DTSTART;TZID=Europe/Rome:20250320T000000
DTEND;TZID=Europe/Rome:20250320T000000
DTSTAMP:20260419T233207
CREATED:20250716T112606Z
LAST-MODIFIED:20250716T122105Z
UID:56769-1742428800-1742428800@www.dolomitiprealpi.it
SUMMARY:Coccole da leggere
DESCRIPTION:Sweet readings for children. \nTwo sweet reading appointments dedicated to children between 0 and 3 years old and their companions. \nReservation is necessary by writing or calling (on Tuesday and Friday from 3:00 PM to 6:00 PM) to the Library of Lentiai.
URL:https://www.dolomitiprealpi.it/en/event/coccole-da-leggere-3/
END:VEVENT
BEGIN:VEVENT
DTSTART;TZID=Europe/Rome:20250320T000000
DTEND;TZID=Europe/Rome:20250320T000000
DTSTAMP:20260419T233207
CREATED:20250717T131539Z
LAST-MODIFIED:20250717T131539Z
UID:63503-1742428800-1742428800@www.dolomitiprealpi.it
SUMMARY:Coccole da leggere
DESCRIPTION:Sweet readings for children. \nTwo sweet reading appointments dedicated to children between 0 and 3 years old and their companions. \nReservation is necessary by writing or calling (on Tuesday and Friday from 3:00 PM to 6:00 PM) to the Library of Lentiai.
URL:https://www.dolomitiprealpi.it/en/event/coccole-da-leggere/
END:VEVENT
BEGIN:VEVENT
DTSTART;TZID=Europe/Rome:20250320T000000
DTEND;TZID=Europe/Rome:20250320T000000
DTSTAMP:20260419T233207
CREATED:20250830T114504Z
LAST-MODIFIED:20250914T095145Z
UID:67212-1742428800-1742428800@www.dolomitiprealpi.it
SUMMARY:Coccole da leggere
DESCRIPTION:Sweet readings for children. \nTwo sweet reading appointments dedicated to children between 0 and 3 years old and their companions. \nReservation is necessary by writing or calling (on Tuesday and Friday from 3:00 PM to 6:00 PM) to the Library of Lentiai.
URL:https://www.dolomitiprealpi.it/en/event/coccole-da-leggere-5/
END:VEVENT
BEGIN:VEVENT
DTSTART;TZID=Europe/Rome:20250320T000000
DTEND;TZID=Europe/Rome:20250320T000000
DTSTAMP:20260419T233207
CREATED:20250830T115649Z
LAST-MODIFIED:20250914T100414Z
UID:83965-1742428800-1742428800@www.dolomitiprealpi.it
SUMMARY:A Passo di donna - filò di montagna
DESCRIPTION:The event is free of charge with a voluntary and conscious donation. \nReservation is mandatory. \nHow to book: \n\nOnline at the following link;\nIn person\, by going to the Museo Civico di Palazzo Fulcia at via Roma 28 in Belluno\, during opening hours;\nDirectly at the event location\, without guarantee of access in case the seats are already sold out.\n\nIt is requested to promptly communicate in case of cancellation of the reservation through the channel already used. \nThe collected data will be processed in accordance with privacy regulations. \nOur TAM group and the T.I.L.T. group (All together for the territory)\, with the sponsorship of the Municipality of Feltre\, are organizing a special all-female meeting titled “In the Steps of Women. The Filo’ of the Mountains.” \nA group of mountain women will help us relive the spirit and warmth\, even human\, of the Filo’ of the past\, sharing their stories and engaging in dialogue together. Diverse personalities\, with different experiences\, of various ages\, in contexts that are not always the same but united by a common thread: their tenacity\, positive energy\, firm will\, and the ability to blend imagination with practicality\, enterprise with elegance. \nThe true “Beauty” of femininity emerges\, highlighting the drive for continuous exploration and the sharing of identifying approaches. Each of them will reveal their own world\, built from a network of exchanges and different roles\, connected to the mountainous territory in which they live their everyday lives. We will revisit the magic of the Filo’ of the past\, which still exists\, due to the innate characteristic of women to naturally weave relational networks. \nTo demonstrate this aspect\, there will be the presence of “Quelledelluncinetto” from Quero\, with their handmade roses for a charitable cause.  \nDuring the evening\, there will also be readings of some poems by Luana Gorza\, who passed away ten years ago after a long illness\, accompanied by the music of Pina Sabbatini.  \nWomen who leave traces in their daily lives\, in the time of work and leisure\, in the social networks they build and share….  \nExperiences\, difficulties\, trials and errors\, solutions\, dreams\, projects\, hopes …
URL:https://www.dolomitiprealpi.it/en/event/a-passo-di-donna-filo-di-montagna/
END:VEVENT
BEGIN:VEVENT
DTSTART;TZID=Europe/Rome:20250320T000000
DTEND;TZID=Europe/Rome:20250320T000000
DTSTAMP:20260419T233207
CREATED:20250830T120132Z
LAST-MODIFIED:20250914T101101Z
UID:84356-1742428800-1742428800@www.dolomitiprealpi.it
SUMMARY:I neri fantasmi di Marcinelle
DESCRIPTION:Men could choose between light and darkness and chose darkness.
URL:https://www.dolomitiprealpi.it/en/event/i-neri-fantasmi-di-marcinelle/
END:VEVENT
BEGIN:VEVENT
DTSTART;TZID=Europe/Rome:20250321T000000
DTEND;TZID=Europe/Rome:20250321T000000
DTSTAMP:20260419T233207
CREATED:20250709T130811Z
LAST-MODIFIED:20250709T130811Z
UID:49350-1742515200-1742515200@www.dolomitiprealpi.it
SUMMARY:Mostra Fotografica di Eddi Da Ros
DESCRIPTION:Personal photographic exhibition by Eddi Da Ros \nSolo photography exhibition by Eddi Da Ros. \nThe photographer is someone who can capture a moment and with that shot evoke emotions in the observer of the image.
URL:https://www.dolomitiprealpi.it/en/event/mostra-fotografica-di-eddi-da-ros/
END:VEVENT
BEGIN:VEVENT
DTSTART;TZID=Europe/Rome:20250321T000000
DTEND;TZID=Europe/Rome:20250321T000000
DTSTAMP:20260419T233207
CREATED:20250715T083607Z
LAST-MODIFIED:20250715T083608Z
UID:52372-1742515200-1742515200@www.dolomitiprealpi.it
SUMMARY:Mostra Fotografica di Eddi Da Ros
DESCRIPTION:Personal photographic exhibition by Eddi Da Ros \nSolo photography exhibition by Eddi Da Ros. \nThe photographer is someone who can capture a moment and with that shot evoke emotions in the observer of the image.
URL:https://www.dolomitiprealpi.it/en/event/mostra-fotografica-di-eddi-da-ros/
END:VEVENT
BEGIN:VEVENT
DTSTART;TZID=Europe/Rome:20250321T000000
DTEND;TZID=Europe/Rome:20250321T000000
DTSTAMP:20260419T233207
CREATED:20250716T112208Z
LAST-MODIFIED:20250716T121139Z
UID:55975-1742515200-1742515200@www.dolomitiprealpi.it
SUMMARY:Mostra Fotografica di Eddi Da Ros
DESCRIPTION:Personal photographic exhibition by Eddi Da Ros \nSolo photography exhibition by Eddi Da Ros. \nThe photographer is someone who can capture a moment and with that shot evoke emotions in the observer of the image.
URL:https://www.dolomitiprealpi.it/en/event/mostra-fotografica-di-eddi-da-ros-3/
END:VEVENT
BEGIN:VEVENT
DTSTART;TZID=Europe/Rome:20250321T000000
DTEND;TZID=Europe/Rome:20250321T000000
DTSTAMP:20260419T233207
CREATED:20250717T131141Z
LAST-MODIFIED:20250717T131141Z
UID:62704-1742515200-1742515200@www.dolomitiprealpi.it
SUMMARY:Mostra Fotografica di Eddi Da Ros
DESCRIPTION:Personal photographic exhibition by Eddi Da Ros \nSolo photography exhibition by Eddi Da Ros. \nThe photographer is someone who can capture a moment and with that shot evoke emotions in the observer of the image.
URL:https://www.dolomitiprealpi.it/en/event/mostra-fotografica-di-eddi-da-ros/
END:VEVENT
BEGIN:VEVENT
DTSTART;TZID=Europe/Rome:20250321T000000
DTEND;TZID=Europe/Rome:20250321T000000
DTSTAMP:20260419T233207
CREATED:20250830T113129Z
LAST-MODIFIED:20250921T110452Z
UID:81944-1742515200-1742515200@www.dolomitiprealpi.it
SUMMARY:Ambasciatori di Bellezza: valorizziamo il nostro territorio!
DESCRIPTION:The project “Ambassadors of Beauty” stops in Cesiomaggiore! \nFREE LESSON for all youngsters aged 15 to 30 on the topic: “Simple editing with free tools”Date and Time: Friday\, March 21 from 3:00 PM to 6:00 PMLocation: at the Civic Library hall of Cesiomaggiore \n  \nAn unmissable opportunity to discover how to communicate the territory in a cultural key with Dr. Alessia Dall’Ò  \nTopics of the free lesson: \n✅ Canva\, CapCut\, and free tools: what they are and how to use them \n✅ Elements of a “good” reel \n✅ Practical tutorials \n  \nJoin us and discover how to tell our territory in a creative and digital way!
URL:https://www.dolomitiprealpi.it/en/event/ambasciatori-di-bellezza-valorizziamo-il-nostro-territorio-2/
END:VEVENT
BEGIN:VEVENT
DTSTART;TZID=Europe/Rome:20250321T000000
DTEND;TZID=Europe/Rome:20250321T000000
DTSTAMP:20260419T233207
CREATED:20250830T113300Z
LAST-MODIFIED:20250921T110653Z
UID:66391-1742515200-1742515200@www.dolomitiprealpi.it
SUMMARY:Mostra Fotografica di Eddi Da Ros
DESCRIPTION:Personal photographic exhibition by Eddi Da Ros \nSolo photography exhibition by Eddi Da Ros. \nThe photographer is someone who can capture a moment and with that shot evoke emotions in the observer of the image.
URL:https://www.dolomitiprealpi.it/en/event/mostra-fotografica-di-eddi-da-ros-7/
END:VEVENT
BEGIN:VEVENT
DTSTART;TZID=Europe/Rome:20250321T000000
DTEND;TZID=Europe/Rome:20250321T000000
DTSTAMP:20260419T233207
CREATED:20250830T114845Z
LAST-MODIFIED:20251009T112233Z
UID:83359-1742515200-1742515200@www.dolomitiprealpi.it
SUMMARY:Istruzioni per l'uso: genitori si diventa
DESCRIPTION:ENTRY: \n€5.00 per meeting\nto be paid on site\n \nParenting is a journey rich in challenges\, joys\, and\, above all\, daily choices that influence the well-being and development of our children. \nBut how can we best face these challenges? \nHow can we become aware and prepared parents? \nHere is a series of events designed to reflect together on crucial themes of children’s and adolescents’ growth. \n“Instructions for Use: Parents Become” is a series of appointments that offers concrete tools and points of reflection to calmly tackle the difficulties and opportunities of being parents. \nSara Roman\, psychotherapist\, will lead the meetings. \nFour Meetings on Parenthood\nAt each meeting\, there will be a service for childcare and entertainment for children \nFriday\, January 24\, 2025 – Permissive Education: Parents or Friends? Do “no’s” really help? \nFriday\, February 21\, 2025 – Help! I’m Going to School: How to Handle the Delicate Moment of Homework and What to Do When Children Don’t Want to Go to School \nFriday\, March 21\, 2025 – Emotional Intelligence: Can We Help Our Children Manage Their Emotions? \nFriday\, April 11\, 2025 – Do All Screens Harm? Reflections on the Conscious Use of Technology \n A cycle of events designed to reflect together on crucial themes of children’s and adolescents’ growth.
URL:https://www.dolomitiprealpi.it/en/event/istruzioni-per-luso-genitori-si-diventa-4/
END:VEVENT
BEGIN:VEVENT
DTSTART;TZID=Europe/Rome:20250321T000000
DTEND;TZID=Europe/Rome:20250321T000000
DTSTAMP:20260419T233207
CREATED:20250830T115355Z
LAST-MODIFIED:20250921T114117Z
UID:83751-1742515200-1742515200@www.dolomitiprealpi.it
SUMMARY:I tesori della Biblioteca Civica
DESCRIPTION:On Friday\, February 28\, the series of meetings The Treasures of the Civic Library opens\, featuring image projections and the exhibition of original documents from the presented collections\, at the Courtyard of Palazzo Crepadona. \nThe schedule of the meetings: \n \n– Friday\, February 28: The photographs of G. Burloni (1950s) curated by Giovanni Larese with the participation of Bruno Burloni\, donor of the collection  \n– Friday\, March 7: The movie posters of Belluno (1911-1914) curated by Barbara De Poloni  \n– Friday\, March 21: The musical collections of Antonio Miari and Giovan Battista Velluti (18th-19th century) curated by Barbara Zucco  \n– Friday\, April 4: The painted volumes of the Piloni Library (15th-16th century) curated by Giovanni Grazioli  \nThe citizenship is invited to participate. \nInfo: biblioteca@comune.belluno.it and tel. 0437913303 \nMeeting cycle
URL:https://www.dolomitiprealpi.it/en/event/i-tesori-della-biblioteca-civica-4/
END:VEVENT
BEGIN:VEVENT
DTSTART;TZID=Europe/Rome:20250321T000000
DTEND;TZID=Europe/Rome:20250321T000000
DTSTAMP:20260419T233207
CREATED:20250830T120132Z
LAST-MODIFIED:20250921T115245Z
UID:84357-1742515200-1742515200@www.dolomitiprealpi.it
SUMMARY:In marcia dalla steppa al Polo nord
DESCRIPTION:When talking about the Great War\, one thinks of the static battles on the Western Front. This book\, however\, presents an unusual and little-known perspective. The first part discusses the Italian ethnic prisoners fighting in the Austro-Hungarian army who were captured by the Russians on the Eastern Front and who lived through the incredible journey across Siberia to return to Italy as redeemed citizens; the second part covers the Italian expeditionary force in Murmansk\, sent almost to the Arctic Circle\, to counter the German threat first and then the Bolshevik threat.  Presentation of the book “Marching from the Steppe to the North Pole. Italians in Russia during the Great War” by Fabio Dal Din\, Ravizza Publisher
URL:https://www.dolomitiprealpi.it/en/event/in-marcia-dalla-steppa-al-polo-nord/
END:VEVENT
BEGIN:VEVENT
DTSTART;TZID=Europe/Rome:20250321T000000
DTEND;TZID=Europe/Rome:20250321T000000
DTSTAMP:20260419T233207
CREATED:20250830T120304Z
LAST-MODIFIED:20251109T121211Z
UID:84485-1742515200-1742515200@www.dolomitiprealpi.it
SUMMARY:Attenti al libro!
DESCRIPTION: Children’s readings \nThe Civic Library of Belluno\, starting from March 7th and until March 28th (every Friday of the month)\, is reintroducing the project “Watch Out for the Book!”\, with read-aloud sessions for children aged 3 to 7 years. The readings will be conducted by our talented readers: Annamaria Canepa\, Sabina D’Isep\, Valentina Pellegrinon\, Paola Brolati\, and Chiara Buttignon. \nThe appointment for those interested is at the library’s venue\, at 5 PM lasting for 30 minutes. \nParticipants will be able to listen to readings of books\, stories\, tales\, and nursery rhymes from various authors and genres\, and there will also be themed meetings. \nAt the Children’s Room in Palazzo Crepadona (on the 2nd floor) in Belluno. Children must be accompanied by an adult. Entry is free and no reservation is required. Punctuality is important!
URL:https://www.dolomitiprealpi.it/en/event/attenti-al-libro-4/
END:VEVENT
BEGIN:VEVENT
DTSTART;TZID=Europe/Rome:20250322T000000
DTEND;TZID=Europe/Rome:20250322T000000
DTSTAMP:20260419T233207
CREATED:20250709T130813Z
LAST-MODIFIED:20250709T130813Z
UID:49352-1742601600-1742601600@www.dolomitiprealpi.it
SUMMARY:Mostra Fotografica di Eddi Da Ros
DESCRIPTION:Personal photographic exhibition by Eddi Da Ros \nSolo photography exhibition by Eddi Da Ros. \nThe photographer is someone who can capture a moment and with that shot evoke emotions in the observer of the image.
URL:https://www.dolomitiprealpi.it/en/event/mostra-fotografica-di-eddi-da-ros/
END:VEVENT
BEGIN:VEVENT
DTSTART;TZID=Europe/Rome:20250322T000000
DTEND;TZID=Europe/Rome:20250322T000000
DTSTAMP:20260419T233207
CREATED:20250709T130856Z
LAST-MODIFIED:20250709T130856Z
UID:49396-1742601600-1742601600@www.dolomitiprealpi.it
SUMMARY:Giornata ecologica puliAMO Feltre
DESCRIPTION:The “Clean Feltri” initiative returns for the fourth consecutive year\, organized by the Palio Association together with the Eco-volunteers group of the Feltrina Mountain Union and this year with FIAB Feltre. An afternoon dedicated to taking care of our city and raising awareness among our fellow citizens about the importance of proper waste disposal behavior. \nThe waste collection day is open to everyone\, including children. \nIt will take place in different neighborhoods and will be coordinated by some Eco-volunteers\, ending at 5:30 PM. \nThose interested are asked to confirm their participation by Saturday\, March 15 in order to activate insurance coverage.To register\, please send your details (Last Name First Name\, place and date of birth\, tax code\, and address) \nREQUIRED ATTIRE: GOOD PROTECTIVE GLOVES\, HIGH VISIBILITY VEST\, FOOTWEAR FOR MIXED TERRAIN\, AND A BACKPACK FOR THOSE WHO WISH. BAGS FOR WASTE COLLECTION WILL BE PROVIDED BY THE ORGANIZERS\, AS WILL GRABBER TOOLS (WHILE SUPPLIES LAST).
URL:https://www.dolomitiprealpi.it/en/event/giornata-ecologica-puliamo-feltre/
END:VEVENT
BEGIN:VEVENT
DTSTART;TZID=Europe/Rome:20250322T000000
DTEND;TZID=Europe/Rome:20250322T000000
DTSTAMP:20260419T233207
CREATED:20250709T131828Z
LAST-MODIFIED:20250709T131828Z
UID:49810-1742601600-1742601600@www.dolomitiprealpi.it
SUMMARY:Brusa la vecia
DESCRIPTION:The traditional Mid-Lent festival returns to Zottier. \nThe traditional “brusa la vecia” returns with the reading of the will and food and drinks offered by the Zottier local committee! \n“Brusa la Vecia” is a traditional event that takes place during the mid-Lent period. Following the reading of the “Testament of the Vecia“\, there is the spectacular “bonfire” of the same\, which recalls an ancient custom of popular tradition. It is indeed a true “rite of passage” from the old to the new\, from the bad to the good season\, which carries with it the intention to ward off all evil and to favor good.
URL:https://www.dolomitiprealpi.it/en/event/brusa-la-vecia/
END:VEVENT
BEGIN:VEVENT
DTSTART;TZID=Europe/Rome:20250322T000000
DTEND;TZID=Europe/Rome:20250322T000000
DTSTAMP:20260419T233207
CREATED:20250715T083608Z
LAST-MODIFIED:20250715T083609Z
UID:52375-1742601600-1742601600@www.dolomitiprealpi.it
SUMMARY:Mostra Fotografica di Eddi Da Ros
DESCRIPTION:Personal photographic exhibition by Eddi Da Ros \nSolo photography exhibition by Eddi Da Ros. \nThe photographer is someone who can capture a moment and with that shot evoke emotions in the observer of the image.
URL:https://www.dolomitiprealpi.it/en/event/mostra-fotografica-di-eddi-da-ros/
END:VEVENT
BEGIN:VEVENT
DTSTART;TZID=Europe/Rome:20250322T000000
DTEND;TZID=Europe/Rome:20250322T000000
DTSTAMP:20260419T233207
CREATED:20250715T083632Z
LAST-MODIFIED:20250715T083632Z
UID:52459-1742601600-1742601600@www.dolomitiprealpi.it
SUMMARY:Giornata ecologica puliAMO Feltre
DESCRIPTION:The “Clean Feltri” initiative returns for the fourth consecutive year\, organized by the Palio Association together with the Eco-volunteers group of the Feltrina Mountain Union and this year with FIAB Feltre. An afternoon dedicated to taking care of our city and raising awareness among our fellow citizens about the importance of proper waste disposal behavior. \nThe waste collection day is open to everyone\, including children. \nIt will take place in different neighborhoods and will be coordinated by some Eco-volunteers\, ending at 5:30 PM. \nThose interested are asked to confirm their participation by Saturday\, March 15 in order to activate insurance coverage.To register\, please send your details (Last Name First Name\, place and date of birth\, tax code\, and address) \nREQUIRED ATTIRE: GOOD PROTECTIVE GLOVES\, HIGH VISIBILITY VEST\, FOOTWEAR FOR MIXED TERRAIN\, AND A BACKPACK FOR THOSE WHO WISH. BAGS FOR WASTE COLLECTION WILL BE PROVIDED BY THE ORGANIZERS\, AS WILL GRABBER TOOLS (WHILE SUPPLIES LAST).
URL:https://www.dolomitiprealpi.it/en/event/giornata-ecologica-puliamo-feltre/
END:VEVENT
BEGIN:VEVENT
DTSTART;TZID=Europe/Rome:20250322T000000
DTEND;TZID=Europe/Rome:20250322T000000
DTSTAMP:20260419T233207
CREATED:20250715T084124Z
LAST-MODIFIED:20250715T084124Z
UID:53469-1742601600-1742601600@www.dolomitiprealpi.it
SUMMARY:Brusa la vecia
DESCRIPTION:The traditional Mid-Lent festival returns to Zottier. \nThe traditional “brusa la vecia” returns with the reading of the will and food and drinks offered by the Zottier local committee! \n“Brusa la Vecia” is a traditional event that takes place during the mid-Lent period. Following the reading of the “Testament of the Vecia“\, there is the spectacular “bonfire” of the same\, which recalls an ancient custom of popular tradition. It is indeed a true “rite of passage” from the old to the new\, from the bad to the good season\, which carries with it the intention to ward off all evil and to favor good.
URL:https://www.dolomitiprealpi.it/en/event/brusa-la-vecia/
END:VEVENT
BEGIN:VEVENT
DTSTART;TZID=Europe/Rome:20250322T000000
DTEND;TZID=Europe/Rome:20250322T000000
DTSTAMP:20260419T233207
CREATED:20250715T084525Z
LAST-MODIFIED:20250715T084525Z
UID:54279-1742601600-1742601600@www.dolomitiprealpi.it
SUMMARY:Biblioteca come luogo di aggregazione
DESCRIPTION:Municipal Library of Tambre\, a meeting place that strengthens community ties: it is important to be a community together. \nTambre Municipal Library\, a meeting place that strengthens community ties: it is important to be a community together. \nActivities for children from 0 to 10 years old\, accompanied by a parent until the age of 6. \nTo participate in the meetings\, simply book a few days in advance\, via WhatsApp at numbers 348 2555849 or 366 2347167\, attention to the flyer. \nEach activity has a small cost ranging from €1.00 to €3.00 and all children will be provided with a snack. \nWhat are you waiting for\, moms and dads……………….bring your kids to have fun!!!!
URL:https://www.dolomitiprealpi.it/en/event/biblioteca-come-luogo-di-aggregazione/
END:VEVENT
BEGIN:VEVENT
DTSTART;TZID=Europe/Rome:20250322T000000
DTEND;TZID=Europe/Rome:20250322T000000
DTSTAMP:20260419T233207
CREATED:20250715T084618Z
LAST-MODIFIED:20250715T084618Z
UID:54447-1742601600-1742601600@www.dolomitiprealpi.it
SUMMARY:Brusa la vecia
DESCRIPTION:In case of bad weather\, the bonfire on March 29 is postponed to Saturday\, April 5.The traditional mid-Lent festival returns to Trichiana! \nThe great Mid-Lent festival organized by Pro Loco Trichiana is back. \n“Brusa la Vecia” is a traditional event that takes place during the Mid-Lent period. Following the reading of the “Testament of the Vecia“\, there is the spectacular “bonfire” of the Vecia\, which evokes an ancient custom of popular tradition. It is\, in fact\, a true “rite of passage” from the old to the new\, from the bad season to the good season\, which carries with it the will to avert all malevolence and to favor goodness. \nEvery year\, the Pro Loco of Trichiana has the various districts and fractions “compete” to determine the winner; scores are given based on the reading of the testament\, the bonfire\, and the choreography! The appointment is on Saturday\, March 29 at 8:15 PM with the burning of the Vecia at Parco Lotto. \nMany other initiatives are associated with the event each year. \nOn Saturday\, the 22nd\, in Piazza Merlin and Piazza Saubens from 9:00 AM to 5:00 PM\, the market “Robe de na olta” showcases objects and flavors of the past\, an antique market\, and local products with demonstrations of crafts and games from bygone days. \nAt 6:15 PM\, the non-competitive walk “La vecia che camina de not” will depart from Piazza Saubens to discover the most picturesque corners of Trichiana. A 3.5 km route at a free pace with stages of shows\, music\, and refreshment! To participate\, a headlamp or flashlight is required. Registration is €5. At the end\, music with DJ Fabris. During the event\, there will be equipped kiosks and Food Trucks. \nFrom March 22 to March 29\, the challenge among merchants “the fiery window” invites you to visit all the decorated shop windows for the occasion; you can participate in the drawing of 3 vouchers to be used at the participating businesses! \n  Live streaming of the bonfire on YouTube and Facebook thanks to the Association of Bellunesi in the World and Radio ABM.
URL:https://www.dolomitiprealpi.it/en/event/brusa-la-vecia/
END:VEVENT
END:VCALENDAR