BEGIN:VCALENDAR
VERSION:2.0
PRODID:-//Dolomiti Prealpi - ECPv6.14.2//NONSGML v1.0//EN
CALSCALE:GREGORIAN
METHOD:PUBLISH
X-WR-CALNAME:Dolomiti Prealpi
X-ORIGINAL-URL:https://www.dolomitiprealpi.it/en/
X-WR-CALDESC:Events for Dolomiti Prealpi
REFRESH-INTERVAL;VALUE=DURATION:PT1H
X-Robots-Tag:noindex
X-PUBLISHED-TTL:PT1H
BEGIN:VTIMEZONE
TZID:Europe/Rome
BEGIN:DAYLIGHT
TZOFFSETFROM:+0100
TZOFFSETTO:+0200
TZNAME:CEST
DTSTART:20250330T010000
END:DAYLIGHT
BEGIN:STANDARD
TZOFFSETFROM:+0200
TZOFFSETTO:+0100
TZNAME:CET
DTSTART:20251026T010000
END:STANDARD
END:VTIMEZONE
BEGIN:VEVENT
DTSTART;TZID=Europe/Rome:20250715T000000
DTEND;TZID=Europe/Rome:20250715T000000
DTSTAMP:20260425T130549
CREATED:20250716T112754Z
LAST-MODIFIED:20250716T122600Z
UID:57157-1752537600-1752537600@www.dolomitiprealpi.it
SUMMARY:Corso di Tango Argentino
DESCRIPTION:Shoes with leather or smooth rubber soles.  \nIntroductory course to Argentine Tango with teacher Monica Visintin. \nFree registration\, contribution for insurance registration of €10. \nRegistration via WhatsApp message to 349 357 9454.
URL:https://www.dolomitiprealpi.it/en/event/corso-di-tango-argentino-5/
END:VEVENT
BEGIN:VEVENT
DTSTART;TZID=Europe/Rome:20250715T000000
DTEND;TZID=Europe/Rome:20250715T000000
DTSTAMP:20260425T130549
CREATED:20250716T113059Z
LAST-MODIFIED:20250716T123343Z
UID:57769-1752537600-1752537600@www.dolomitiprealpi.it
SUMMARY:In piazza d'estate
DESCRIPTION:The program includes:Cover night with “The Crossroad” on July 1;Traditional dance night with Ermanno on July 8;Children’s show night with Manuele Pascal on July 15;Baby dance on July 22;Summer notes: concert by the Alpago band on July 29; \nEvery Wednesday in July from 8:00 PM\, the square for children. \nEvenings dedicated to good music\, dancing and entertainment for children in the square of Farra d’Alpago.
URL:https://www.dolomitiprealpi.it/en/event/in-piazza-destate-6/
END:VEVENT
BEGIN:VEVENT
DTSTART;TZID=Europe/Rome:20250715T000000
DTEND;TZID=Europe/Rome:20250715T000000
DTSTAMP:20260425T130549
CREATED:20250717T131135Z
LAST-MODIFIED:20250717T131135Z
UID:62687-1752537600-1752537600@www.dolomitiprealpi.it
SUMMARY:Leggerelesere
DESCRIPTION:On Tuesdays in July\, the Bretelle Lasche APS theater company organizes the Leggerelesere review\, curtainless readings in the city’s courtyards. \nTUESDAY\, JULY 8 – JAMES BROWN PUTTING ON CURLERS By Yasmina Reza. Readers: Gianluca Bonet\, Antonella Michielin\, Francesco Portunato\, Laura Portunato\, Giovanni Sani. Location: Villa Miari Garden – Via Cipro – 9:00 PM \nTUESDAY\, JULY 15 – PASOLINI NIGHT Readings from Pier Paolo Pasolini with circus and live music. Readers: Federico Ticchi\, Mauro Case\, Laura Portunato\, Marianna Margio\, Sandro Del Duca\, Margherita Santonastasio\, Fabiola Zamorano from Liberamente Circo Belluno. Location: Courtyard of Villa Doglioni Dal Mas – Via San Lucano 15 – 9:00 PM \nTUESDAY\, JULY 22 – AUSTRALIAN DOUBTS By Camilla Emili and other texts. Readers: Lina Beltrame and Camilla Emili.Location: Loris Tormen Garden – Piazza Castello – 9:00 PM \nTUESDAY\, JULY 29 – THE SMALL MOSQUITOS By Anna Marchesini. Readers: Antonella Michielin\, Lorena De March\, Marianna Negretto\, Giulia Giannone.Location: Cavarzano – Rainbow Park – Via Castellani – 9:00 PM \nSingle entry 2€. \nReadings without a curtain in the courtyards of the city
URL:https://www.dolomitiprealpi.it/en/event/leggerelesere/
END:VEVENT
BEGIN:VEVENT
DTSTART;TZID=Europe/Rome:20250715T000000
DTEND;TZID=Europe/Rome:20250715T000000
DTSTAMP:20260425T130549
CREATED:20250717T131746Z
LAST-MODIFIED:20250717T131747Z
UID:63895-1752537600-1752537600@www.dolomitiprealpi.it
SUMMARY:Corso di Tango Argentino
DESCRIPTION:Shoes with leather or smooth rubber soles.  \nIntroductory course to Argentine Tango with teacher Monica Visintin. \nFree registration\, contribution for insurance registration of €10. \nRegistration via WhatsApp message to 349 357 9454.
URL:https://www.dolomitiprealpi.it/en/event/corso-di-tango-argentino/
END:VEVENT
BEGIN:VEVENT
DTSTART;TZID=Europe/Rome:20250715T000000
DTEND;TZID=Europe/Rome:20250715T000000
DTSTAMP:20260425T130549
CREATED:20250717T132102Z
LAST-MODIFIED:20250717T132102Z
UID:64509-1752537600-1752537600@www.dolomitiprealpi.it
SUMMARY:In piazza d'estate
DESCRIPTION:The program includes:Cover night with “The Crossroad” on July 1;Traditional dance night with Ermanno on July 8;Children’s show night with Manuele Pascal on July 15;Baby dance on July 22;Summer notes: concert by the Alpago band on July 29; \nEvery Wednesday in July from 8:00 PM\, the square for children. \nEvenings dedicated to good music\, dancing and entertainment for children in the square of Farra d’Alpago.
URL:https://www.dolomitiprealpi.it/en/event/in-piazza-destate/
END:VEVENT
BEGIN:VEVENT
DTSTART;TZID=Europe/Rome:20250715T000000
DTEND;TZID=Europe/Rome:20250715T000000
DTSTAMP:20260425T130549
CREATED:20251229T090335Z
LAST-MODIFIED:20260117T114857Z
UID:81407-1752537600-1752537600@www.dolomitiprealpi.it
SUMMARY:Van Gogh: un grande fuoco nel cuore
DESCRIPTION:The exhibition is open from July 3 to July 23. \nInside\, you can purchase the catalog curated by Prof. Roberto Filippetti\, the Letters to brother Theo\, and other useful materials to understand the theme of the exhibition. Other related initiatives will be communicated on the website www.parrocchiaduomo.it and on the websites of the cultural partners. \nAdmission is free. For information\, please call the number 0439.2312 \nExhibition on Van Gogh
URL:https://www.dolomitiprealpi.it/en/event/van-gogh-un-grande-fuoco-nel-cuore-7/
END:VEVENT
BEGIN:VEVENT
DTSTART;TZID=Europe/Rome:20250715T000000
DTEND;TZID=Europe/Rome:20250715T000000
DTSTAMP:20260425T130549
CREATED:20251229T090335Z
LAST-MODIFIED:20260117T114857Z
UID:81407-1752537600-1752537600@www.dolomitiprealpi.it
SUMMARY:Van Gogh: un grande fuoco nel cuore
DESCRIPTION:The exhibition is open from July 3 to July 23. \nInside\, you can purchase the catalog curated by Prof. Roberto Filippetti\, the Letters to brother Theo\, and other useful materials to understand the theme of the exhibition. Other related initiatives will be communicated on the website www.parrocchiaduomo.it and on the websites of the cultural partners. \nAdmission is free. For information\, please call the number 0439.2312 \nExhibition on Van Gogh
URL:https://www.dolomitiprealpi.it/en/event/van-gogh-un-grande-fuoco-nel-cuore-7/
END:VEVENT
BEGIN:VEVENT
DTSTART;TZID=Europe/Rome:20250715T000000
DTEND;TZID=Europe/Rome:20250715T000000
DTSTAMP:20260425T130549
CREATED:20251229T091743Z
LAST-MODIFIED:20251231T091938Z
UID:66371-1752537600-1752537600@www.dolomitiprealpi.it
SUMMARY:Leggerelesere
DESCRIPTION:On Tuesdays in July\, the Bretelle Lasche APS theater company organizes the Leggerelesere review\, curtainless readings in the city’s courtyards. \nTUESDAY\, JULY 8 – JAMES BROWN PUTTING ON CURLERS By Yasmina Reza. Readers: Gianluca Bonet\, Antonella Michielin\, Francesco Portunato\, Laura Portunato\, Giovanni Sani. Location: Villa Miari Garden – Via Cipro – 9:00 PM \nTUESDAY\, JULY 15 – PASOLINI NIGHT Readings from Pier Paolo Pasolini with circus and live music. Readers: Federico Ticchi\, Mauro Case\, Laura Portunato\, Marianna Margio\, Sandro Del Duca\, Margherita Santonastasio\, Fabiola Zamorano from Liberamente Circo Belluno. Location: Courtyard of Villa Doglioni Dal Mas – Via San Lucano 15 – 9:00 PM \nTUESDAY\, JULY 22 – AUSTRALIAN DOUBTS By Camilla Emili and other texts. Readers: Lina Beltrame and Camilla Emili.Location: Loris Tormen Garden – Piazza Castello – 9:00 PM \nTUESDAY\, JULY 29 – THE SMALL MOSQUITOS By Anna Marchesini. Readers: Antonella Michielin\, Lorena De March\, Marianna Negretto\, Giulia Giannone.Location: Cavarzano – Rainbow Park – Via Castellani – 9:00 PM \nSingle entry 2€. \nReadings without a curtain in the courtyards of the city
URL:https://www.dolomitiprealpi.it/en/event/leggerelesere-5/
END:VEVENT
BEGIN:VEVENT
DTSTART;TZID=Europe/Rome:20250715T000000
DTEND;TZID=Europe/Rome:20250715T000000
DTSTAMP:20260425T130549
CREATED:20251229T092050Z
LAST-MODIFIED:20260124T182728Z
UID:82206-1752537600-1752537600@www.dolomitiprealpi.it
SUMMARY:La tribù dei lettori
DESCRIPTION:Creative workshops and readings for children aged 4 and up \nTo be part of the tribe and access the reading tent\, one must be a true Indian. \nThe five meetings include the creation of: an Indian headdress\, an Indian axe or magic wand\, an Indian notebook/journal cover\, an Indian necklace or amulet\, an Indian bookmark. \nAnd to finish\, we will decorate together the tent where the readings will take place. \nCost: 15 € per meeting (materials included) \nMax number of participants: 15
URL:https://www.dolomitiprealpi.it/en/event/la-tribu-dei-lettori-4/
END:VEVENT
BEGIN:VEVENT
DTSTART;TZID=Europe/Rome:20250715T000000
DTEND;TZID=Europe/Rome:20250715T000000
DTSTAMP:20260425T130549
CREATED:20251229T092538Z
LAST-MODIFIED:20260117T120712Z
UID:82408-1752537600-1752537600@www.dolomitiprealpi.it
SUMMARY:Meditazioni e respirazioni rilassanti con Alice
DESCRIPTION:Info 348 9616642 – Proloco Chies d’Alpago
URL:https://www.dolomitiprealpi.it/en/event/meditazioni-e-respirazioni-rilassanti-con-alice-2/
END:VEVENT
BEGIN:VEVENT
DTSTART;TZID=Europe/Rome:20250715T000000
DTEND;TZID=Europe/Rome:20250715T000000
DTSTAMP:20260425T130549
CREATED:20251229T095153Z
LAST-MODIFIED:20251231T094819Z
UID:67608-1752537600-1752537600@www.dolomitiprealpi.it
SUMMARY:Corso di Tango Argentino
DESCRIPTION:Shoes with leather or smooth rubber soles.  \nIntroductory course to Argentine Tango with teacher Monica Visintin. \nFree registration\, contribution for insurance registration of €10. \nRegistration via WhatsApp message to 349 357 9454.
URL:https://www.dolomitiprealpi.it/en/event/corso-di-tango-argentino-9/
END:VEVENT
BEGIN:VEVENT
DTSTART;TZID=Europe/Rome:20250715T000000
DTEND;TZID=Europe/Rome:20250715T000000
DTSTAMP:20260425T130549
CREATED:20251229T095842Z
LAST-MODIFIED:20251231T095306Z
UID:83788-1752537600-1752537600@www.dolomitiprealpi.it
SUMMARY:Colori e musica per descriver il divino
DESCRIPTION:Inauguration on Thursday July 10 at 8:30 PM of the exhibition featuring an illustration of the history\, representation\, and reading of the ancient art of iconography. \nOpening of the exhibition at “casel di Seren” on the following days: \nFriday July 11: 4:00 PM-7:00 PM \n Saturday July 12: 4:00 PM-7:00 PM  \n Sunday July 13: 10:00 AM-7:00 PM \n Monday July 14: 10:00 AM-7:00 PM \nTuesday July 15: 4:00 PM-7:00 PM \nFREE ENTRY \nMusical interludes by Sara Pavan on harp and Luigi Scapin on flute. \nIcon show
URL:https://www.dolomitiprealpi.it/en/event/colori-e-musica-per-descriver-il-divino/
END:VEVENT
BEGIN:VEVENT
DTSTART;TZID=Europe/Rome:20250715T000000
DTEND;TZID=Europe/Rome:20250715T000000
DTSTAMP:20260425T130549
CREATED:20251229T101255Z
LAST-MODIFIED:20260130T151034Z
UID:68216-1752537600-1752537600@www.dolomitiprealpi.it
SUMMARY:In piazza d'estate
DESCRIPTION:The program includes:Cover night with “The Crossroad” on July 1;Traditional dance night with Ermanno on July 8;Children’s show night with Manuele Pascal on July 15;Baby dance on July 22;Summer notes: concert by the Alpago band on July 29; \nEvery Wednesday in July from 8:00 PM\, the square for children. \nEvenings dedicated to good music\, dancing and entertainment for children in the square of Farra d’Alpago.
URL:https://www.dolomitiprealpi.it/en/event/in-piazza-destate-16/
END:VEVENT
BEGIN:VEVENT
DTSTART;TZID=Europe/Rome:20250715T000000
DTEND;TZID=Europe/Rome:20250812T000000
DTSTAMP:20260425T130549
CREATED:20250715T083406Z
LAST-MODIFIED:20250715T083405Z
UID:51963-1752537600-1754956800@www.dolomitiprealpi.it
SUMMARY:Aperti per ferie
DESCRIPTION:The great cinema evenings organized by AUSER of Lentiai in collaboration with the Library of Lentiai are back\, every Tuesday at 8:30 PM with free entrance in the square of the Library of Lentiai. \nThis is the program: \n\nTuesday\, July 15 “Tornano i prati” by Ermanno Olmi\, the story of a night on the Altipiano in 1917\nTuesday\, July 22 “Inside Out” the animated film by Disney – Pixar\nTuesday\, July 29 “Mediterraneo” the masterpiece by Salvatores\nTuesday\, August 5 “We Are Infinite” by Stephen Chbosky\, a film with an amazing soundtrack dedicated to the complex adolescent world\nTuesday\, August 12 “La La Land” by Damien Chazelle the Hollywood love story that won 7 Academy Awards\, 7 Golden Globes\, 5 BAFTAs\, and the Coppa Volpi in Venice.\n\nIn case of bad weather\, the screening will be canceled. \n \nCinema under the stars.
URL:https://www.dolomitiprealpi.it/en/event/aperti-per-ferie/
END:VEVENT
BEGIN:VEVENT
DTSTART;TZID=Europe/Rome:20250715T000000
DTEND;TZID=Europe/Rome:20250812T000000
DTSTAMP:20260425T130549
CREATED:20250716T112003Z
LAST-MODIFIED:20250716T120640Z
UID:55556-1752537600-1754956800@www.dolomitiprealpi.it
SUMMARY:Aperti per ferie
DESCRIPTION:The great cinema evenings organized by AUSER of Lentiai in collaboration with the Library of Lentiai are back\, every Tuesday at 8:30 PM with free entrance in the square of the Library of Lentiai. \nThis is the program: \n\nTuesday\, July 15 “Tornano i prati” by Ermanno Olmi\, the story of a night on the Altipiano in 1917\nTuesday\, July 22 “Inside Out” the animated film by Disney – Pixar\nTuesday\, July 29 “Mediterraneo” the masterpiece by Salvatores\nTuesday\, August 5 “We Are Infinite” by Stephen Chbosky\, a film with an amazing soundtrack dedicated to the complex adolescent world\nTuesday\, August 12 “La La Land” by Damien Chazelle the Hollywood love story that won 7 Academy Awards\, 7 Golden Globes\, 5 BAFTAs\, and the Coppa Volpi in Venice.\n\nIn case of bad weather\, the screening will be canceled. \n \nCinema under the stars.
URL:https://www.dolomitiprealpi.it/en/event/aperti-per-ferie-2/
END:VEVENT
BEGIN:VEVENT
DTSTART;TZID=Europe/Rome:20250715T000000
DTEND;TZID=Europe/Rome:20250812T000000
DTSTAMP:20260425T130549
CREATED:20250717T130933Z
LAST-MODIFIED:20250717T130933Z
UID:62280-1752537600-1754956800@www.dolomitiprealpi.it
SUMMARY:Aperti per ferie
DESCRIPTION:The great cinema evenings organized by AUSER of Lentiai in collaboration with the Library of Lentiai are back\, every Tuesday at 8:30 PM with free entrance in the square of the Library of Lentiai. \nThis is the program: \n\nTuesday\, July 15 “Tornano i prati” by Ermanno Olmi\, the story of a night on the Altipiano in 1917\nTuesday\, July 22 “Inside Out” the animated film by Disney – Pixar\nTuesday\, July 29 “Mediterraneo” the masterpiece by Salvatores\nTuesday\, August 5 “We Are Infinite” by Stephen Chbosky\, a film with an amazing soundtrack dedicated to the complex adolescent world\nTuesday\, August 12 “La La Land” by Damien Chazelle the Hollywood love story that won 7 Academy Awards\, 7 Golden Globes\, 5 BAFTAs\, and the Coppa Volpi in Venice.\n\nIn case of bad weather\, the screening will be canceled. \n \nCinema under the stars.
URL:https://www.dolomitiprealpi.it/en/event/aperti-per-ferie/
END:VEVENT
BEGIN:VEVENT
DTSTART;TZID=Europe/Rome:20250715T000000
DTEND;TZID=Europe/Rome:20250812T000000
DTSTAMP:20260425T130549
CREATED:20251229T090755Z
LAST-MODIFIED:20260209T170639Z
UID:65947-1752537600-1754956800@www.dolomitiprealpi.it
SUMMARY:Aperti per ferie
DESCRIPTION:The great cinema evenings organized by AUSER of Lentiai in collaboration with the Library of Lentiai are back\, every Tuesday at 8:30 PM with free entrance in the square of the Library of Lentiai. \nThis is the program: \n\nTuesday\, July 15 “Tornano i prati” by Ermanno Olmi\, the story of a night on the Altipiano in 1917\nTuesday\, July 22 “Inside Out” the animated film by Disney – Pixar\nTuesday\, July 29 “Mediterraneo” the masterpiece by Salvatores\nTuesday\, August 5 “We Are Infinite” by Stephen Chbosky\, a film with an amazing soundtrack dedicated to the complex adolescent world\nTuesday\, August 12 “La La Land” by Damien Chazelle the Hollywood love story that won 7 Academy Awards\, 7 Golden Globes\, 5 BAFTAs\, and the Coppa Volpi in Venice.\n\nIn case of bad weather\, the screening will be canceled. \n \nCinema under the stars.
URL:https://www.dolomitiprealpi.it/en/event/aperti-per-ferie-3/
END:VEVENT
BEGIN:VEVENT
DTSTART;TZID=Europe/Rome:20250715T000000
DTEND;TZID=Europe/Rome:20250831T000000
DTSTAMP:20260425T130549
CREATED:20250419T084143Z
LAST-MODIFIED:20250709T132102Z
UID:49947-1752537600-1756598400@www.dolomitiprealpi.it
SUMMARY:Apertura centro di educazione ambientale in Val Canzoi
DESCRIPTION:Welcome to the accommodation facility for tourist information\, the Park shop point!THE ENVIRONMENTAL EDUCATION CENTER REOPENS IN VAL CANZOI! Welcome to the accommodation facility for tourist information\, the Park’s shop point\, with many animations and games about the wonderful biodiversity of the Dolomiti Bellunesi National Park! Tourist information\, shop point\, and many games about biodiversity and the senses of nature organized by the Mazarol Guides! To reach us: from Feltre or Belluno\, follow the signs for Cesiomaggiore and then Soranzen; enter Val Canzoi and travel for 5 km\, the Center is located along the road on the left (free parking on the right). Free entry for everyone. On Easter Monday\, the Center will be open from 9:30 AM to 1:00 PM and from 1:30 PM to 5:00 PM.
URL:https://www.dolomitiprealpi.it/en/event/apertura-centro-di-educazione-ambientale-in-val-canzoi/
END:VEVENT
BEGIN:VEVENT
DTSTART;TZID=Europe/Rome:20250715T000000
DTEND;TZID=Europe/Rome:20250831T000000
DTSTAMP:20260425T130549
CREATED:20250715T084245Z
LAST-MODIFIED:20250715T084245Z
UID:53742-1752537600-1756598400@www.dolomitiprealpi.it
SUMMARY:Apertura centro di educazione ambientale in Val Canzoi
DESCRIPTION:Welcome to the accommodation facility for tourist information\, the Park shop point!THE ENVIRONMENTAL EDUCATION CENTER REOPENS IN VAL CANZOI! Welcome to the accommodation facility for tourist information\, the Park’s shop point\, with many animations and games about the wonderful biodiversity of the Dolomiti Bellunesi National Park! Tourist information\, shop point\, and many games about biodiversity and the senses of nature organized by the Mazarol Guides! To reach us: from Feltre or Belluno\, follow the signs for Cesiomaggiore and then Soranzen; enter Val Canzoi and travel for 5 km\, the Center is located along the road on the left (free parking on the right). Free entry for everyone. On Easter Monday\, the Center will be open from 9:30 AM to 1:00 PM and from 1:30 PM to 5:00 PM.
URL:https://www.dolomitiprealpi.it/en/event/apertura-centro-di-educazione-ambientale-in-val-canzoi/
END:VEVENT
BEGIN:VEVENT
DTSTART;TZID=Europe/Rome:20250715T000000
DTEND;TZID=Europe/Rome:20250831T000000
DTSTAMP:20260425T130549
CREATED:20250716T112850Z
LAST-MODIFIED:20250716T122827Z
UID:57348-1752537600-1756598400@www.dolomitiprealpi.it
SUMMARY:Apertura centro di educazione ambientale in Val Canzoi
DESCRIPTION:Welcome to the accommodation facility for tourist information\, the Park shop point!THE ENVIRONMENTAL EDUCATION CENTER REOPENS IN VAL CANZOI! Welcome to the accommodation facility for tourist information\, the Park’s shop point\, with many animations and games about the wonderful biodiversity of the Dolomiti Bellunesi National Park! Tourist information\, shop point\, and many games about biodiversity and the senses of nature organized by the Mazarol Guides! To reach us: from Feltre or Belluno\, follow the signs for Cesiomaggiore and then Soranzen; enter Val Canzoi and travel for 5 km\, the Center is located along the road on the left (free parking on the right). Free entry for everyone. On Easter Monday\, the Center will be open from 9:30 AM to 1:00 PM and from 1:30 PM to 5:00 PM.
URL:https://www.dolomitiprealpi.it/en/event/apertura-centro-di-educazione-ambientale-in-val-canzoi-8/
END:VEVENT
BEGIN:VEVENT
DTSTART;TZID=Europe/Rome:20250715T000000
DTEND;TZID=Europe/Rome:20250831T000000
DTSTAMP:20260425T130549
CREATED:20250717T131849Z
LAST-MODIFIED:20250717T131849Z
UID:64086-1752537600-1756598400@www.dolomitiprealpi.it
SUMMARY:Apertura centro di educazione ambientale in Val Canzoi
DESCRIPTION:Welcome to the accommodation facility for tourist information\, the Park shop point!THE ENVIRONMENTAL EDUCATION CENTER REOPENS IN VAL CANZOI! Welcome to the accommodation facility for tourist information\, the Park’s shop point\, with many animations and games about the wonderful biodiversity of the Dolomiti Bellunesi National Park! Tourist information\, shop point\, and many games about biodiversity and the senses of nature organized by the Mazarol Guides! To reach us: from Feltre or Belluno\, follow the signs for Cesiomaggiore and then Soranzen; enter Val Canzoi and travel for 5 km\, the Center is located along the road on the left (free parking on the right). Free entry for everyone. On Easter Monday\, the Center will be open from 9:30 AM to 1:00 PM and from 1:30 PM to 5:00 PM.
URL:https://www.dolomitiprealpi.it/en/event/apertura-centro-di-educazione-ambientale-in-val-canzoi/
END:VEVENT
BEGIN:VEVENT
DTSTART;TZID=Europe/Rome:20250715T000000
DTEND;TZID=Europe/Rome:20250831T000000
DTSTAMP:20260425T130549
CREATED:20260215T111851Z
LAST-MODIFIED:20260221T153917Z
UID:67788-1752537600-1756598400@www.dolomitiprealpi.it
SUMMARY:Apertura centro di educazione ambientale in Val Canzoi
DESCRIPTION:Welcome to the accommodation facility for tourist information\, the Park shop point!THE ENVIRONMENTAL EDUCATION CENTER REOPENS IN VAL CANZOI! Welcome to the accommodation facility for tourist information\, the Park’s shop point\, with many animations and games about the wonderful biodiversity of the Dolomiti Bellunesi National Park! Tourist information\, shop point\, and many games about biodiversity and the senses of nature organized by the Mazarol Guides! To reach us: from Feltre or Belluno\, follow the signs for Cesiomaggiore and then Soranzen; enter Val Canzoi and travel for 5 km\, the Center is located along the road on the left (free parking on the right). Free entry for everyone. On Easter Monday\, the Center will be open from 9:30 AM to 1:00 PM and from 1:30 PM to 5:00 PM.
URL:https://www.dolomitiprealpi.it/en/event/apertura-centro-di-educazione-ambientale-in-val-canzoi-16/
END:VEVENT
BEGIN:VEVENT
DTSTART;TZID=Europe/Rome:20250716T000000
DTEND;TZID=Europe/Rome:20250716T000000
DTSTAMP:20260425T130549
CREATED:20250625T131420Z
LAST-MODIFIED:20250709T131216Z
UID:49543-1752624000-1752624000@www.dolomitiprealpi.it
SUMMARY:Rassegna Itinerante Figuriamoci
DESCRIPTION:Traveling festival\, puppetry and street arts “Figuriamoci” \nDays of street theater performances and fun for young and old: \nFONZASO – Wednesday\, July 16 at 9:00 PM in Piazza I Novembre (in case of bad weather\, it will be postponed). \nOrganized by Fabio Lucignano – Sebastian Burrasca. \nFree admission.
URL:https://www.dolomitiprealpi.it/en/event/rassegna-itinerante-figuriamoci/
END:VEVENT
BEGIN:VEVENT
DTSTART;TZID=Europe/Rome:20250716T000000
DTEND;TZID=Europe/Rome:20250716T000000
DTSTAMP:20260425T130550
CREATED:20250625T131907Z
LAST-MODIFIED:20250709T132422Z
UID:50110-1752624000-1752624000@www.dolomitiprealpi.it
SUMMARY:In piazza d'estate
DESCRIPTION:The program includes:Cover night with “The Crossroad” on July 1;Traditional dance night with Ermanno on July 8;Children’s show night with Manuele Pascal on July 15;Baby dance on July 22;Summer notes: concert by the Alpago band on July 29; \nEvery Wednesday in July from 8:00 PM\, the square for children. \nEvenings dedicated to good music\, dancing and entertainment for children in the square of Farra d’Alpago.
URL:https://www.dolomitiprealpi.it/en/event/in-piazza-destate/
END:VEVENT
BEGIN:VEVENT
DTSTART;TZID=Europe/Rome:20250716T000000
DTEND;TZID=Europe/Rome:20250716T000000
DTSTAMP:20260425T130550
CREATED:20250715T083824Z
LAST-MODIFIED:20250715T083825Z
UID:52859-1752624000-1752624000@www.dolomitiprealpi.it
SUMMARY:Rassegna Itinerante Figuriamoci
DESCRIPTION:Traveling festival\, puppetry and street arts “Figuriamoci” \nDays of street theater performances and fun for young and old: \nFONZASO – Wednesday\, July 16 at 9:00 PM in Piazza I Novembre (in case of bad weather\, it will be postponed). \nOrganized by Fabio Lucignano – Sebastian Burrasca. \nFree admission.
URL:https://www.dolomitiprealpi.it/en/event/rassegna-itinerante-figuriamoci/
END:VEVENT
BEGIN:VEVENT
DTSTART;TZID=Europe/Rome:20250716T000000
DTEND;TZID=Europe/Rome:20250716T000000
DTSTAMP:20260425T130550
CREATED:20250715T084450Z
LAST-MODIFIED:20250715T084450Z
UID:54165-1752624000-1752624000@www.dolomitiprealpi.it
SUMMARY:In piazza d'estate
DESCRIPTION:The program includes:Cover night with “The Crossroad” on July 1;Traditional dance night with Ermanno on July 8;Children’s show night with Manuele Pascal on July 15;Baby dance on July 22;Summer notes: concert by the Alpago band on July 29; \nEvery Wednesday in July from 8:00 PM\, the square for children. \nEvenings dedicated to good music\, dancing and entertainment for children in the square of Farra d’Alpago.
URL:https://www.dolomitiprealpi.it/en/event/in-piazza-destate/
END:VEVENT
BEGIN:VEVENT
DTSTART;TZID=Europe/Rome:20250716T000000
DTEND;TZID=Europe/Rome:20250716T000000
DTSTAMP:20260425T130550
CREATED:20250716T112433Z
LAST-MODIFIED:20250716T121716Z
UID:56463-1752624000-1752624000@www.dolomitiprealpi.it
SUMMARY:Rassegna Itinerante Figuriamoci
DESCRIPTION:Traveling festival\, puppetry and street arts “Figuriamoci” \nDays of street theater performances and fun for young and old: \nFONZASO – Wednesday\, July 16 at 9:00 PM in Piazza I Novembre (in case of bad weather\, it will be postponed). \nOrganized by Fabio Lucignano – Sebastian Burrasca. \nFree admission.
URL:https://www.dolomitiprealpi.it/en/event/rassegna-itinerante-figuriamoci-8/
END:VEVENT
BEGIN:VEVENT
DTSTART;TZID=Europe/Rome:20250716T000000
DTEND;TZID=Europe/Rome:20250716T000000
DTSTAMP:20260425T130550
CREATED:20250716T113100Z
LAST-MODIFIED:20250716T123345Z
UID:57771-1752624000-1752624000@www.dolomitiprealpi.it
SUMMARY:In piazza d'estate
DESCRIPTION:The program includes:Cover night with “The Crossroad” on July 1;Traditional dance night with Ermanno on July 8;Children’s show night with Manuele Pascal on July 15;Baby dance on July 22;Summer notes: concert by the Alpago band on July 29; \nEvery Wednesday in July from 8:00 PM\, the square for children. \nEvenings dedicated to good music\, dancing and entertainment for children in the square of Farra d’Alpago.
URL:https://www.dolomitiprealpi.it/en/event/in-piazza-destate-7/
END:VEVENT
BEGIN:VEVENT
DTSTART;TZID=Europe/Rome:20250716T000000
DTEND;TZID=Europe/Rome:20250716T000000
DTSTAMP:20260425T130550
CREATED:20250717T131407Z
LAST-MODIFIED:20250717T131407Z
UID:63195-1752624000-1752624000@www.dolomitiprealpi.it
SUMMARY:Rassegna Itinerante Figuriamoci
DESCRIPTION:Traveling festival\, puppetry and street arts “Figuriamoci” \nDays of street theater performances and fun for young and old: \nFONZASO – Wednesday\, July 16 at 9:00 PM in Piazza I Novembre (in case of bad weather\, it will be postponed). \nOrganized by Fabio Lucignano – Sebastian Burrasca. \nFree admission.
URL:https://www.dolomitiprealpi.it/en/event/rassegna-itinerante-figuriamoci/
END:VEVENT
BEGIN:VEVENT
DTSTART;TZID=Europe/Rome:20250716T000000
DTEND;TZID=Europe/Rome:20250716T000000
DTSTAMP:20260425T130550
CREATED:20250717T132103Z
LAST-MODIFIED:20250717T132103Z
UID:64511-1752624000-1752624000@www.dolomitiprealpi.it
SUMMARY:In piazza d'estate
DESCRIPTION:The program includes:Cover night with “The Crossroad” on July 1;Traditional dance night with Ermanno on July 8;Children’s show night with Manuele Pascal on July 15;Baby dance on July 22;Summer notes: concert by the Alpago band on July 29; \nEvery Wednesday in July from 8:00 PM\, the square for children. \nEvenings dedicated to good music\, dancing and entertainment for children in the square of Farra d’Alpago.
URL:https://www.dolomitiprealpi.it/en/event/in-piazza-destate/
END:VEVENT
END:VCALENDAR