BEGIN:VCALENDAR
VERSION:2.0
PRODID:-//Dolomiti Prealpi - ECPv6.14.2//NONSGML v1.0//EN
CALSCALE:GREGORIAN
METHOD:PUBLISH
X-ORIGINAL-URL:https://www.dolomitiprealpi.it/en/
X-WR-CALDESC:Events for Dolomiti Prealpi
REFRESH-INTERVAL;VALUE=DURATION:PT1H
X-Robots-Tag:noindex
X-PUBLISHED-TTL:PT1H
BEGIN:VTIMEZONE
TZID:Europe/Rome
BEGIN:DAYLIGHT
TZOFFSETFROM:+0100
TZOFFSETTO:+0200
TZNAME:CEST
DTSTART:20250330T010000
END:DAYLIGHT
BEGIN:STANDARD
TZOFFSETFROM:+0200
TZOFFSETTO:+0100
TZNAME:CET
DTSTART:20251026T010000
END:STANDARD
END:VTIMEZONE
BEGIN:VEVENT
DTSTART;TZID=Europe/Rome:20250706T000000
DTEND;TZID=Europe/Rome:20250706T000000
DTSTAMP:20260419T215413
CREATED:20251229T103146Z
LAST-MODIFIED:20251231T101943Z
UID:85189-1751760000-1751760000@www.dolomitiprealpi.it
SUMMARY:Concerto corale
DESCRIPTION:The concert is organized with the aim of promoting intercultural and international exchange by inviting choral groups from outside Italy to give the audience the opportunity to get to know musical realities from other nations. \nThe evening will feature the participation of the Polyphonic Choir of Trichiana\, the Schola Cantorum Trichianensis\, the Crystal Tears Vocal Group from Belluno\, and the Pro Musica Girl’s Choir from Nyíregyháza (HU). \nThe concert is open to everyone. \nEvening concert featuring the performance of four choirs.
URL:https://www.dolomitiprealpi.it/en/event/concerto-corale-8/
END:VEVENT
BEGIN:VEVENT
DTSTART;TZID=Europe/Rome:20250706T000000
DTEND;TZID=Europe/Rome:20250706T000000
DTSTAMP:20260419T215413
CREATED:20260215T104138Z
LAST-MODIFIED:20260221T151025Z
UID:65531-1751760000-1751760000@www.dolomitiprealpi.it
SUMMARY:Giardino Botanico delle Alpi Orientali
DESCRIPTION:The Carabinieri Biodiversity Group – Biodiversity Division of Belluno is organizing guided tours of the Botanical Garden of the Eastern Alps\, in Nevegal for Summer 2025. \nJuly 6: THE ORCHIDS OF THE BOTANICAL GARDEN OF THE EASTERN ALPS By Dr. Monica Sommacal and Dr. Simone Sensato – Carabinieri Biodiversity Division of Belluno  \nJuly 13: THE INSECTS OF THE BOTANICAL GARDEN OF THE EASTERN ALPS By Dr. Marialuisa Dal Cortivo – Carabinieri Biodiversity Division of Belluno  \nJuly 26: LICHENS OF THE EASTERN ALPS: BIODIVERSITY AND CONSERVATION By Prof. Juri Nascimbene – Faculty Member at Alma Mater Studiorum\, University of Bologna  \nAugust 23: GEOLOGY AND GEOMORPHOLOGY OF THE RESERVE IN A DOLOMITIC CONTEXT By Dr. Alberto Riva – Faculty Member at the University of Ferrara  \nSeptember 12: FUNGI: BIOLOGY AND SPECIES PRESENT IN THE BOTANICAL GARDEN OF THE EASTERN ALPS By Dr. Fabio Padovan – President of the Mycological Association «Bresadola» of Belluno  \nAll visits will take place from 10 AM to 12 PM.Meeting point at the entrance of the Reserve. \nRegistration is required (25 spots per date) via email at the following address: rcb.belluno@gmail.com \nFree admission. \nNature guided tours
URL:https://www.dolomitiprealpi.it/en/event/giardino-botanico-delle-alpi-orientali-7/
END:VEVENT
BEGIN:VEVENT
DTSTART;TZID=Europe/Rome:20250706T000000
DTEND;TZID=Europe/Rome:20250706T000000
DTSTAMP:20260419T215413
CREATED:20260215T111017Z
LAST-MODIFIED:20260221T153232Z
UID:83297-1751760000-1751760000@www.dolomitiprealpi.it
SUMMARY:Lamon\, piccoli scrigni d'arte
DESCRIPTION:The initiative “Lamon\, small Chests of Art” returns this summer\, which offers the opportunity to visit the Archaeological Museum\, the Church of San Daniele and the Church of San Pietro on Sunday afternoons from 4 PM to 6 PM during the months of July and August. \nThe archaeological museum is also open for visits year-round\, upon request\, during the office hours of the Pro Loco of Lamon. \nVisits to Lamon
URL:https://www.dolomitiprealpi.it/en/event/lamon-piccoli-scrigni-darte-2/
END:VEVENT
BEGIN:VEVENT
DTSTART;TZID=Europe/Rome:20250706T000000
DTEND;TZID=Europe/Rome:20250706T000000
DTSTAMP:20260419T215413
CREATED:20260215T112007Z
LAST-MODIFIED:20260221T154038Z
UID:83874-1751760000-1751760000@www.dolomitiprealpi.it
SUMMARY:Programma primavera-estate 2025
DESCRIPTION:Spring-summer program 2025 in the Val di Seren del Grappa. \nThroughout the spring and until the end of summer\, the program offers a mix of unique events that involve people of all ages\, with activities ranging from nature to gastronomy and local traditions. \nFor the little ones\, there are activities dedicated to discovering biodiversity. You can visit the exhibits in the barn where art meets spring. The walks to discover the Seren valley offer the opportunity to explore unspoiled landscapes\, while the visit to Tane Muse farm allows for a connection with agricultural life. For those who love gastronomy and traditional cooking\, there is a peasant cooking workshop\, a project titled “The tomato and its siblings\,” and an activity on herbal preparations. Additionally\, you can enjoy an aperitif in good company through “aperistalla.” Other activities for nature lovers include: San Giovanni under the walnut tree\, forest bathing in the Montesort chestnut grove\, and haymaking. The “open farms” allow for the discovery of the work of local realities. For those who wish to experiment with manual skills\, a soap-making course is also offered. \nIn the coming weeks\, individual posters for each event will follow.
URL:https://www.dolomitiprealpi.it/en/event/programma-primavera-estate-2025-9/
END:VEVENT
BEGIN:VEVENT
DTSTART;TZID=Europe/Rome:20250706T000000
DTEND;TZID=Europe/Rome:20250706T000000
DTSTAMP:20260419T215413
CREATED:20260215T113021Z
LAST-MODIFIED:20260221T154834Z
UID:68387-1751760000-1751760000@www.dolomitiprealpi.it
SUMMARY:Mercatino di hobbistica\, artigianato e antiquariato
DESCRIPTION:Every Sunday in July and August in Spert square. \nTel. 347 1234815
URL:https://www.dolomitiprealpi.it/en/event/mercatino-di-hobbistica-artigianato-e-antiquariato-11/
END:VEVENT
BEGIN:VEVENT
DTSTART;TZID=Europe/Rome:20250706T000000
DTEND;TZID=Europe/Rome:20250706T000000
DTSTAMP:20260419T215413
CREATED:20260215T113122Z
LAST-MODIFIED:20260417T112348Z
UID:84724-1751760000-1751760000@www.dolomitiprealpi.it
SUMMARY:Eventi della Pro loco di Fonzaso
DESCRIPTION:Very rich calendar with the Pro Loco Fonzaso APS
URL:https://www.dolomitiprealpi.it/en/event/eventi-della-pro-loco-di-fonzaso-7/
END:VEVENT
BEGIN:VEVENT
DTSTART;TZID=Europe/Rome:20250706T000000
DTEND;TZID=Europe/Rome:20250706T000000
DTSTAMP:20260419T215413
CREATED:20260215T113453Z
LAST-MODIFIED:20260221T155206Z
UID:68625-1751760000-1751760000@www.dolomitiprealpi.it
SUMMARY:Fiera del Nevegàl
DESCRIPTION:The traditional appointment with the Nevegal Fairs returns for the summer of 2025\, scheduled for every first Sunday of the summer months\, from July to September. It starts on July 6\, when the stalls will populate the Colle square; the event will then be repeated on August 3 and September 7. \nFrom 8 AM to 8 PM\, it will be possible to find local agricultural and handicraft products\, food\, toys\, and clothing\, catering to the most diverse interests. Food and beverage service points will also be available. \nTo provide visitors and tourists with useful ideas to make the most of all the opportunities offered by Nevegal\, the Infopoint will also be operational. \nVarious market with local products
URL:https://www.dolomitiprealpi.it/en/event/fiera-del-nevegal-5/
END:VEVENT
BEGIN:VEVENT
DTSTART;TZID=Europe/Rome:20250706T000000
DTEND;TZID=Europe/Rome:20250706T000000
DTSTAMP:20260419T215413
CREATED:20260417T110830Z
LAST-MODIFIED:20260417T110833Z
UID:67652-1751760000-1751760000@www.dolomitiprealpi.it
SUMMARY:Villa Aperta
DESCRIPTION:It is recommended to wear appropriate shoes and clothing suitable for the place.  \nVilla Modolo is one of the 15 major villas in the Province of Belluno\, included in the catalog of the hundred Venetian villas by Antonio Canova\, and represents one of the greatest examples of a villa perfectly integrated into the grand tradition of the most significant Venetian models. \nTraveling along the road that crosses the countryside of Modolo\, one arrives at a small square where the family chapel dedicated to Saint Lawrence stands. Passing through the 18th-century gate\, you enter the garden\, encounter the old barn\, and finally reach Villa Modolo\, a grand construction from the early 19th century designed by architect Andrea Miari. \nFrom here\, the guided tour begins\, during which we will discover together the history of the Miari family\, the Villa with its gardens\, the village\, and the agricultural territory that surrounds it. \n \nOpening of Villa Modolo
URL:https://www.dolomitiprealpi.it/en/event/villa-aperta-19/
END:VEVENT
BEGIN:VEVENT
DTSTART;TZID=Europe/Rome:20250707T000000
DTEND;TZID=Europe/Rome:20250707T000000
DTSTAMP:20260419T215413
CREATED:20251229T090306Z
LAST-MODIFIED:20260117T114835Z
UID:81381-1751846400-1751846400@www.dolomitiprealpi.it
SUMMARY:Van Gogh: un grande fuoco nel cuore
DESCRIPTION:The exhibition is open from July 3 to July 23. \nInside\, you can purchase the catalog curated by Prof. Roberto Filippetti\, the Letters to brother Theo\, and other useful materials to understand the theme of the exhibition. Other related initiatives will be communicated on the website www.parrocchiaduomo.it and on the websites of the cultural partners. \nAdmission is free. For information\, please call the number 0439.2312 \nExhibition on Van Gogh
URL:https://www.dolomitiprealpi.it/en/event/van-gogh-un-grande-fuoco-nel-cuore-12/
END:VEVENT
BEGIN:VEVENT
DTSTART;TZID=Europe/Rome:20250707T000000
DTEND;TZID=Europe/Rome:20250707T000000
DTSTAMP:20260419T215413
CREATED:20251229T102142Z
LAST-MODIFIED:20260124T192457Z
UID:84814-1751846400-1751846400@www.dolomitiprealpi.it
SUMMARY:Corso di Yin Yoga
DESCRIPTION:For more information call or write on WhatsApp at +39 338 808 5676 or visit the website veradelpol.it \n Yin Yoga Course \nVera Del Pol shiatsu and shin tai FISIeo certified will hold a  YIN YOGA COURSE.  \nThe course will take place in Orsera\, Val Canzoi\, Cesiomaggiore every Monday starting  from  Monday\, July 7 at 6:00 PM. \nBreathe\, slow down\, regain your balance!
URL:https://www.dolomitiprealpi.it/en/event/corso-di-yin-yoga-2/
END:VEVENT
BEGIN:VEVENT
DTSTART;TZID=Europe/Rome:20250707T000000
DTEND;TZID=Europe/Rome:20250725T000000
DTSTAMP:20260419T215413
CREATED:20250615T130832Z
LAST-MODIFIED:20250709T130411Z
UID:49157-1751846400-1753401600@www.dolomitiprealpi.it
SUMMARY:Centro estivo Pian Formosa
DESCRIPTION:For information call 0437 470072
URL:https://www.dolomitiprealpi.it/en/event/centro-estivo-pian-formosa/
END:VEVENT
BEGIN:VEVENT
DTSTART;TZID=Europe/Rome:20250707T000000
DTEND;TZID=Europe/Rome:20250725T000000
DTSTAMP:20260419T215413
CREATED:20250615T131150Z
LAST-MODIFIED:20250709T131502Z
UID:49618-1751846400-1753401600@www.dolomitiprealpi.it
SUMMARY:Centro estivo E-state in Libertà
DESCRIPTION:This year\, the Municipality of Chies d’Alpago\, in collaboration with the CroceBlu Social Cooperative\, is organizing the summer camp “E-state in Libertà”. \nAn intelligent holiday proposal that will take place from July 8 to July 19 for children/youth in their last year of kindergarten\, primary school\, and lower secondary school aged between 5 and 11 years old. \nThe summer camp will be held in the beautiful setting of Pian Formosa\, equipped with large green spaces\, fresh air\, and fully equipped to welcome the little participants\, as well as a meal service at the agriturismo “Malga Pian Formosa”. \nOur proposal offers a full calendar of activities to occupy free time with experiences in animation\, games\, crafts\, and nature excursions in the area. On Fridays\, two excursions are planned that are yet to be defined. \nThe Summer Center is open to all young residents of the Municipality of Chies d’Alpago and to those attending schools located in the Municipality of Chies d’Alpago. The maximum number of participants is 30\, on a first-come\, first-served basis. It will also be possible to enroll children from different municipalities.
URL:https://www.dolomitiprealpi.it/en/event/centro-estivo-e-state-in-liberta/
END:VEVENT
BEGIN:VEVENT
DTSTART;TZID=Europe/Rome:20250707T000000
DTEND;TZID=Europe/Rome:20250725T000000
DTSTAMP:20260419T215413
CREATED:20250715T083351Z
LAST-MODIFIED:20250715T083350Z
UID:51915-1751846400-1753401600@www.dolomitiprealpi.it
SUMMARY:Centro estivo Pian Formosa
DESCRIPTION:For information call 0437 470072
URL:https://www.dolomitiprealpi.it/en/event/centro-estivo-pian-formosa/
END:VEVENT
BEGIN:VEVENT
DTSTART;TZID=Europe/Rome:20250707T000000
DTEND;TZID=Europe/Rome:20250725T000000
DTSTAMP:20260419T215413
CREATED:20250715T083922Z
LAST-MODIFIED:20250715T083922Z
UID:53052-1751846400-1753401600@www.dolomitiprealpi.it
SUMMARY:Centro estivo E-state in Libertà
DESCRIPTION:This year\, the Municipality of Chies d’Alpago\, in collaboration with the CroceBlu Social Cooperative\, is organizing the summer camp “E-state in Libertà”. \nAn intelligent holiday proposal that will take place from July 8 to July 19 for children/youth in their last year of kindergarten\, primary school\, and lower secondary school aged between 5 and 11 years old. \nThe summer camp will be held in the beautiful setting of Pian Formosa\, equipped with large green spaces\, fresh air\, and fully equipped to welcome the little participants\, as well as a meal service at the agriturismo “Malga Pian Formosa”. \nOur proposal offers a full calendar of activities to occupy free time with experiences in animation\, games\, crafts\, and nature excursions in the area. On Fridays\, two excursions are planned that are yet to be defined. \nThe Summer Center is open to all young residents of the Municipality of Chies d’Alpago and to those attending schools located in the Municipality of Chies d’Alpago. The maximum number of participants is 30\, on a first-come\, first-served basis. It will also be possible to enroll children from different municipalities.
URL:https://www.dolomitiprealpi.it/en/event/centro-estivo-e-state-in-liberta/
END:VEVENT
BEGIN:VEVENT
DTSTART;TZID=Europe/Rome:20250707T000000
DTEND;TZID=Europe/Rome:20250725T000000
DTSTAMP:20260419T215413
CREATED:20250716T111946Z
LAST-MODIFIED:20250716T120608Z
UID:55508-1751846400-1753401600@www.dolomitiprealpi.it
SUMMARY:Centro estivo Pian Formosa
DESCRIPTION:For information call 0437 470072
URL:https://www.dolomitiprealpi.it/en/event/centro-estivo-pian-formosa-2/
END:VEVENT
BEGIN:VEVENT
DTSTART;TZID=Europe/Rome:20250707T000000
DTEND;TZID=Europe/Rome:20250725T000000
DTSTAMP:20260419T215413
CREATED:20250716T112532Z
LAST-MODIFIED:20250716T121944Z
UID:56656-1751846400-1753401600@www.dolomitiprealpi.it
SUMMARY:Centro estivo E-state in Libertà
DESCRIPTION:This year\, the Municipality of Chies d’Alpago\, in collaboration with the CroceBlu Social Cooperative\, is organizing the summer camp “E-state in Libertà”. \nAn intelligent holiday proposal that will take place from July 8 to July 19 for children/youth in their last year of kindergarten\, primary school\, and lower secondary school aged between 5 and 11 years old. \nThe summer camp will be held in the beautiful setting of Pian Formosa\, equipped with large green spaces\, fresh air\, and fully equipped to welcome the little participants\, as well as a meal service at the agriturismo “Malga Pian Formosa”. \nOur proposal offers a full calendar of activities to occupy free time with experiences in animation\, games\, crafts\, and nature excursions in the area. On Fridays\, two excursions are planned that are yet to be defined. \nThe Summer Center is open to all young residents of the Municipality of Chies d’Alpago and to those attending schools located in the Municipality of Chies d’Alpago. The maximum number of participants is 30\, on a first-come\, first-served basis. It will also be possible to enroll children from different municipalities.
URL:https://www.dolomitiprealpi.it/en/event/centro-estivo-e-state-in-liberta-2/
END:VEVENT
BEGIN:VEVENT
DTSTART;TZID=Europe/Rome:20250707T000000
DTEND;TZID=Europe/Rome:20250725T000000
DTSTAMP:20260419T215413
CREATED:20250717T130917Z
LAST-MODIFIED:20250717T130917Z
UID:62232-1751846400-1753401600@www.dolomitiprealpi.it
SUMMARY:Centro estivo Pian Formosa
DESCRIPTION:For information call 0437 470072
URL:https://www.dolomitiprealpi.it/en/event/centro-estivo-pian-formosa/
END:VEVENT
BEGIN:VEVENT
DTSTART;TZID=Europe/Rome:20250707T000000
DTEND;TZID=Europe/Rome:20250725T000000
DTSTAMP:20260419T215413
CREATED:20250717T131505Z
LAST-MODIFIED:20250717T131506Z
UID:63390-1751846400-1753401600@www.dolomitiprealpi.it
SUMMARY:Centro estivo E-state in Libertà
DESCRIPTION:This year\, the Municipality of Chies d’Alpago\, in collaboration with the CroceBlu Social Cooperative\, is organizing the summer camp “E-state in Libertà”. \nAn intelligent holiday proposal that will take place from July 8 to July 19 for children/youth in their last year of kindergarten\, primary school\, and lower secondary school aged between 5 and 11 years old. \nThe summer camp will be held in the beautiful setting of Pian Formosa\, equipped with large green spaces\, fresh air\, and fully equipped to welcome the little participants\, as well as a meal service at the agriturismo “Malga Pian Formosa”. \nOur proposal offers a full calendar of activities to occupy free time with experiences in animation\, games\, crafts\, and nature excursions in the area. On Fridays\, two excursions are planned that are yet to be defined. \nThe Summer Center is open to all young residents of the Municipality of Chies d’Alpago and to those attending schools located in the Municipality of Chies d’Alpago. The maximum number of participants is 30\, on a first-come\, first-served basis. It will also be possible to enroll children from different municipalities.
URL:https://www.dolomitiprealpi.it/en/event/centro-estivo-e-state-in-liberta/
END:VEVENT
BEGIN:VEVENT
DTSTART;TZID=Europe/Rome:20250707T000000
DTEND;TZID=Europe/Rome:20250725T000000
DTSTAMP:20260419T215413
CREATED:20251229T090619Z
LAST-MODIFIED:20260124T181521Z
UID:65896-1751846400-1753401600@www.dolomitiprealpi.it
SUMMARY:Centro estivo Pian Formosa
DESCRIPTION:For information call 0437 470072
URL:https://www.dolomitiprealpi.it/en/event/centro-estivo-pian-formosa-3/
END:VEVENT
BEGIN:VEVENT
DTSTART;TZID=Europe/Rome:20250707T000000
DTEND;TZID=Europe/Rome:20250725T000000
DTSTAMP:20260419T215413
CREATED:20251229T093601Z
LAST-MODIFIED:20260124T184035Z
UID:67094-1751846400-1753401600@www.dolomitiprealpi.it
SUMMARY:Centro estivo E-state in Libertà
DESCRIPTION:The weekly contribution including transport and lunch for 4 days\, with a packed lunch on Friday\, is €60 for residents\, €70 for non-residents attending schools in the municipality of Chies d’Alpago\, and €80 for non-residents. \nRegistrations must be made at the link https://forms.gle/wmRz7YA9QmiQ6rwF8 from June 10 to June 15 for residents and from June 17 to June 22 for non-residents\, until all available spots are filled. \n \n This year\, the Municipality of Chies d’Alpago\, in collaboration with the CroceBlu Social Cooperative\, is organizing the summer camp “E-state in Libertà”. \nAn intelligent holiday proposal that will take place from July 8 to July 19 for children/youth in their last year of kindergarten\, primary school\, and lower secondary school aged between 5 and 11 years old. \nThe summer camp will be held in the beautiful setting of Pian Formosa\, equipped with large green spaces\, fresh air\, and fully equipped to welcome the little participants\, as well as a meal service at the agriturismo “Malga Pian Formosa”. \nOur proposal offers a full calendar of activities to occupy free time with experiences in animation\, games\, crafts\, and nature excursions in the area. On Fridays\, two excursions are planned that are yet to be defined. \nThe Summer Center is open to all young residents of the Municipality of Chies d’Alpago and to those attending schools located in the Municipality of Chies d’Alpago. The maximum number of participants is 30\, on a first-come\, first-served basis. It will also be possible to enroll children from different municipalities.
URL:https://www.dolomitiprealpi.it/en/event/centro-estivo-e-state-in-liberta-3/
END:VEVENT
BEGIN:VEVENT
DTSTART;TZID=Europe/Rome:20250707T000000
DTEND;TZID=Europe/Rome:20250725T000000
DTSTAMP:20260419T215413
CREATED:20251229T095653Z
LAST-MODIFIED:20260124T190102Z
UID:83708-1751846400-1753401600@www.dolomitiprealpi.it
SUMMARY:Chiro Summer
DESCRIPTION:Formalization of registration:Pro Loco OfficeFriday 04/07 at 18Saturday 05/07 at 11 “Grest\, Grest\, let’s have fun\, games and laughter every day. New friends\, wonderful adventures\, the Grest is the place where we celebrate.” \nThe Summer Laboratory will be held from Monday to Friday\, at the Pro Loco Fonzaso APS headquarters in Via Angelo Zucco n. 7\, from July 7 to July 25. The activities will take place in the afternoon from 2 PM to 6 PM and are aimed at children aged 7 to 10 years old.
URL:https://www.dolomitiprealpi.it/en/event/chiro-summer/
END:VEVENT
BEGIN:VEVENT
DTSTART;TZID=Europe/Rome:20250708T000000
DTEND;TZID=Europe/Rome:20250708T000000
DTSTAMP:20260419T215413
CREATED:20250611T130144Z
LAST-MODIFIED:20250709T131910Z
UID:49849-1751932800-1751932800@www.dolomitiprealpi.it
SUMMARY:Corso di Tango Argentino
DESCRIPTION:Shoes with leather or smooth rubber soles.  \nIntroductory course to Argentine Tango with teacher Monica Visintin. \nFree registration\, contribution for insurance registration of €10. \nRegistration via WhatsApp message to 349 357 9454.
URL:https://www.dolomitiprealpi.it/en/event/corso-di-tango-argentino/
END:VEVENT
BEGIN:VEVENT
DTSTART;TZID=Europe/Rome:20250708T000000
DTEND;TZID=Europe/Rome:20250708T000000
DTSTAMP:20260419T215413
CREATED:20250625T131904Z
LAST-MODIFIED:20250709T132417Z
UID:50107-1751932800-1751932800@www.dolomitiprealpi.it
SUMMARY:In piazza d'estate
DESCRIPTION:The program includes:Cover night with “The Crossroad” on July 1;Traditional dance night with Ermanno on July 8;Children’s show night with Manuele Pascal on July 15;Baby dance on July 22;Summer notes: concert by the Alpago band on July 29; \nEvery Wednesday in July from 8:00 PM\, the square for children. \nEvenings dedicated to good music\, dancing and entertainment for children in the square of Farra d’Alpago.
URL:https://www.dolomitiprealpi.it/en/event/in-piazza-destate/
END:VEVENT
BEGIN:VEVENT
DTSTART;TZID=Europe/Rome:20250708T000000
DTEND;TZID=Europe/Rome:20250708T000000
DTSTAMP:20260419T215413
CREATED:20250715T084147Z
LAST-MODIFIED:20250715T084147Z
UID:53549-1751932800-1751932800@www.dolomitiprealpi.it
SUMMARY:Corso di Tango Argentino
DESCRIPTION:Shoes with leather or smooth rubber soles.  \nIntroductory course to Argentine Tango with teacher Monica Visintin. \nFree registration\, contribution for insurance registration of €10. \nRegistration via WhatsApp message to 349 357 9454.
URL:https://www.dolomitiprealpi.it/en/event/corso-di-tango-argentino/
END:VEVENT
BEGIN:VEVENT
DTSTART;TZID=Europe/Rome:20250708T000000
DTEND;TZID=Europe/Rome:20250708T000000
DTSTAMP:20260419T215413
CREATED:20250715T084448Z
LAST-MODIFIED:20250715T084448Z
UID:54159-1751932800-1751932800@www.dolomitiprealpi.it
SUMMARY:In piazza d'estate
DESCRIPTION:The program includes:Cover night with “The Crossroad” on July 1;Traditional dance night with Ermanno on July 8;Children’s show night with Manuele Pascal on July 15;Baby dance on July 22;Summer notes: concert by the Alpago band on July 29; \nEvery Wednesday in July from 8:00 PM\, the square for children. \nEvenings dedicated to good music\, dancing and entertainment for children in the square of Farra d’Alpago.
URL:https://www.dolomitiprealpi.it/en/event/in-piazza-destate/
END:VEVENT
BEGIN:VEVENT
DTSTART;TZID=Europe/Rome:20250708T000000
DTEND;TZID=Europe/Rome:20250708T000000
DTSTAMP:20260419T215413
CREATED:20250715T084830Z
LAST-MODIFIED:20250715T084830Z
UID:54897-1751932800-1751932800@www.dolomitiprealpi.it
SUMMARY:Leggerelesere
DESCRIPTION:Readings without a curtain in the courtyards of the city \nOn Tuesdays in July\, the theatrical company Bretelle Lasche APS organizes the Leggerelesere review\, curtain-less readings in the courtyards of the city. \nTUESDAY\, JULY 8 – JAMES BROWN PUT ON CURLERS By Yasmina Reza. Readers: Gianluca Bonet\, Antonella Michielin\, Francesco Portunato\, Laura Portunato\, Giovanni Sani. Location: Giardino di Villa Miari – Via Cipro – 9:00 PM \nTUESDAY\, JULY 15 – NIGHT PASOLINI Readings from Pier Paolo Pasolini with circus and live music. Readers: Federico Ticchi\, Mauro Case\, Laura Portunato\, Marianna Margio\, Sandro Del Duca\, Margherita Santonastasio\, Fabiola Zamorano from Liberamente Circo Belluno. Location: Cortile di Villa Doglioni Dal Mas – Via San Lucano 15 – 9:00 PM \nTUESDAY\, JULY 22 – AUSTRALIAN DOUBTS By Camilla Emili and other texts. Readers: Lina Beltrame and Camilla Emili.Location: Giardinetto Loris Tormen – Piazza Castello – 9:00 PM \nTUESDAY\, JULY 29 – THE MOSQUITOES By Anna Marchesini. Readers: Antonella Michielin\, Lorena De March\, Marianna Negretto\, Giulia Giannone.Location: Cavarzano – Parco arcobaleno – Via Castellani – 9:00 PM \nSingle entrance 2€.
URL:https://www.dolomitiprealpi.it/en/event/leggerelesere/
END:VEVENT
BEGIN:VEVENT
DTSTART;TZID=Europe/Rome:20250708T000000
DTEND;TZID=Europe/Rome:20250708T000000
DTSTAMP:20260419T215413
CREATED:20250716T112753Z
LAST-MODIFIED:20250716T122558Z
UID:57155-1751932800-1751932800@www.dolomitiprealpi.it
SUMMARY:Corso di Tango Argentino
DESCRIPTION:Shoes with leather or smooth rubber soles.  \nIntroductory course to Argentine Tango with teacher Monica Visintin. \nFree registration\, contribution for insurance registration of €10. \nRegistration via WhatsApp message to 349 357 9454.
URL:https://www.dolomitiprealpi.it/en/event/corso-di-tango-argentino-4/
END:VEVENT
BEGIN:VEVENT
DTSTART;TZID=Europe/Rome:20250708T000000
DTEND;TZID=Europe/Rome:20250708T000000
DTSTAMP:20260419T215413
CREATED:20250716T113058Z
LAST-MODIFIED:20250716T123340Z
UID:57765-1751932800-1751932800@www.dolomitiprealpi.it
SUMMARY:In piazza d'estate
DESCRIPTION:The program includes:Cover night with “The Crossroad” on July 1;Traditional dance night with Ermanno on July 8;Children’s show night with Manuele Pascal on July 15;Baby dance on July 22;Summer notes: concert by the Alpago band on July 29; \nEvery Wednesday in July from 8:00 PM\, the square for children. \nEvenings dedicated to good music\, dancing and entertainment for children in the square of Farra d’Alpago.
URL:https://www.dolomitiprealpi.it/en/event/in-piazza-destate-4/
END:VEVENT
BEGIN:VEVENT
DTSTART;TZID=Europe/Rome:20250708T000000
DTEND;TZID=Europe/Rome:20250708T000000
DTSTAMP:20260419T215413
CREATED:20250716T113500Z
LAST-MODIFIED:20250716T113501Z
UID:58506-1751932800-1751932800@www.dolomitiprealpi.it
SUMMARY:Leggerelesere
DESCRIPTION:Readings without a curtain in the courtyards of the city \nOn Tuesdays in July\, the theatrical company Bretelle Lasche APS organizes the Leggerelesere review\, curtain-less readings in the courtyards of the city. \nTUESDAY\, JULY 8 – JAMES BROWN PUT ON CURLERS By Yasmina Reza. Readers: Gianluca Bonet\, Antonella Michielin\, Francesco Portunato\, Laura Portunato\, Giovanni Sani. Location: Giardino di Villa Miari – Via Cipro – 9:00 PM \nTUESDAY\, JULY 15 – NIGHT PASOLINI Readings from Pier Paolo Pasolini with circus and live music. Readers: Federico Ticchi\, Mauro Case\, Laura Portunato\, Marianna Margio\, Sandro Del Duca\, Margherita Santonastasio\, Fabiola Zamorano from Liberamente Circo Belluno. Location: Cortile di Villa Doglioni Dal Mas – Via San Lucano 15 – 9:00 PM \nTUESDAY\, JULY 22 – AUSTRALIAN DOUBTS By Camilla Emili and other texts. Readers: Lina Beltrame and Camilla Emili.Location: Giardinetto Loris Tormen – Piazza Castello – 9:00 PM \nTUESDAY\, JULY 29 – THE MOSQUITOES By Anna Marchesini. Readers: Antonella Michielin\, Lorena De March\, Marianna Negretto\, Giulia Giannone.Location: Cavarzano – Parco arcobaleno – Via Castellani – 9:00 PM \nSingle entrance 2€.
URL:https://www.dolomitiprealpi.it/en/event/leggerelesere/
END:VEVENT
BEGIN:VEVENT
DTSTART;TZID=Europe/Rome:20250708T000000
DTEND;TZID=Europe/Rome:20250708T000000
DTSTAMP:20260419T215413
CREATED:20250717T131746Z
LAST-MODIFIED:20250717T131746Z
UID:63893-1751932800-1751932800@www.dolomitiprealpi.it
SUMMARY:Corso di Tango Argentino
DESCRIPTION:Shoes with leather or smooth rubber soles.  \nIntroductory course to Argentine Tango with teacher Monica Visintin. \nFree registration\, contribution for insurance registration of €10. \nRegistration via WhatsApp message to 349 357 9454.
URL:https://www.dolomitiprealpi.it/en/event/corso-di-tango-argentino/
END:VEVENT
END:VCALENDAR